BEGIN:VCALENDAR
VERSION:2.0
PRODID:-//MMC-Agentur//Calendar Link//DE
CALSCALE:GREGORIAN
METHOD:PUBLISH
BEGIN:VEVENT
UID:event-493@reguvis-shop.tld
DTSTAMP:20260424T130334Z
DTSTART:20501230T230000Z
DTEND:20501230T230000Z
SUMMARY:Alles geregelt! Grundlagen der Immobilienwertermittlung in Deutschland
DESCRIPTION:<p>Sicher und fair bewerten nach deutschen Normen – Orientierung im komplexen Regelwerk der Immobilienwertermittlung.</p>
STATUS:CONFIRMED
SEQUENCE:0
END:VEVENT
END:VCALENDAR