BEGIN:VCALENDAR
VERSION:2.0
PRODID:-//MMC-Agentur//Calendar Link//DE
CALSCALE:GREGORIAN
METHOD:PUBLISH
BEGIN:VEVENT
UID:event-338@reguvis-shop.tld
DTSTAMP:20260425T164310Z
DTSTART:20260629T220000Z
DTEND:20260630T220000Z
SUMMARY:Basiswissen Vergaberecht
DESCRIPTION:<p>Das Grundlagenwissen für Ihre Arbeit im Vergabeumfeld</p>
LOCATION:Reguvis Akademie GmbH\, Köln
STATUS:CONFIRMED
SEQUENCE:0
END:VEVENT
END:VCALENDAR