BEGIN:VCALENDAR
VERSION:2.0
PRODID:-//MMC-Agentur//Calendar Link//DE
CALSCALE:GREGORIAN
METHOD:PUBLISH
BEGIN:VEVENT
UID:event-518@reguvis-shop.tld
DTSTAMP:20260424T131907Z
DTSTART:20261014T220000Z
DTEND:20261014T220000Z
SUMMARY:Betriebsprüfungen bei Energie-\, Strom-\, Alkohol- und Tabaksteuer
DESCRIPTION:<p>Prüfungsschwerpunkte\, Risikofelder und Handlungsempfehlungen für die Praxis</p>
STATUS:CONFIRMED
SEQUENCE:0
END:VEVENT
END:VCALENDAR