BEGIN:VCALENDAR
VERSION:2.0
PRODID:-//MMC-Agentur//Calendar Link//DE
CALSCALE:GREGORIAN
METHOD:PUBLISH
BEGIN:VEVENT
UID:event-393@reguvis-shop.tld
DTSTAMP:20260424T143712Z
DTSTART:20260521T220000Z
DTEND:20260521T220000Z
SUMMARY:Das Vergabebeschleunigungsgesetz – Roundup zur Reform
STATUS:CONFIRMED
SEQUENCE:0
END:VEVENT
END:VCALENDAR