BEGIN:VCALENDAR
VERSION:2.0
PRODID:-//MMC-Agentur//Calendar Link//DE
CALSCALE:GREGORIAN
METHOD:PUBLISH
BEGIN:VEVENT
UID:event-494@reguvis-shop.tld
DTSTAMP:20260424T130016Z
DTSTART:20501230T230000Z
DTEND:20501230T230000Z
SUMMARY:Das war schon immer so! Die klassischen Wertermittlungsmethoden
DESCRIPTION:<p>Die klassische Wertermittlung: Vergleichs-\, Ertrags- und Sachwertverfahren –  Basis-Methoden\, die Sie kennen sollten.</p>
STATUS:CONFIRMED
SEQUENCE:0
END:VEVENT
END:VCALENDAR