BEGIN:VCALENDAR
VERSION:2.0
PRODID:-//MMC-Agentur//Calendar Link//DE
CALSCALE:GREGORIAN
METHOD:PUBLISH
BEGIN:VEVENT
UID:event-337@reguvis-shop.tld
DTSTAMP:20260424T130015Z
DTSTART:20260527T220000Z
DTEND:20260527T220000Z
SUMMARY:Exklusiv-Update Exportkontrollfachwirt:in (brav)®
DESCRIPTION:<p>Ihr Update für Exportkontrolle und Ausfuhr Zoll - bringen Sie sich auf den neuesten Stand.</p>
STATUS:CONFIRMED
SEQUENCE:0
END:VEVENT
END:VCALENDAR