BEGIN:VCALENDAR
VERSION:2.0
PRODID:-//MMC-Agentur//Calendar Link//DE
CALSCALE:GREGORIAN
METHOD:PUBLISH
BEGIN:VEVENT
UID:event-488@reguvis-shop.tld
DTSTAMP:20260424T134304Z
DTSTART:20261006T220000Z
DTEND:20261006T220000Z
SUMMARY:Fachaustausch zu Fragen der optischen Bau-Forensik
DESCRIPTION:<p>Dokumentation\, Messen und Arbeiten mit Standards in der optischen Bau-Forensik</p>
LOCATION:Fraunhofer-Informationszentrum IRB Stuttgart
STATUS:CONFIRMED
SEQUENCE:0
END:VEVENT
END:VCALENDAR