BEGIN:VCALENDAR
VERSION:2.0
PRODID:-//MMC-Agentur//Calendar Link//DE
CALSCALE:GREGORIAN
METHOD:PUBLISH
BEGIN:VEVENT
UID:event-495@reguvis-shop.tld
DTSTAMP:20260424T130125Z
DTSTART:20501230T230000Z
DTEND:20501230T230000Z
SUMMARY:Keiner Statistik glauben? Statistik in der Wertermittlung – Basiswissen
DESCRIPTION:<p>Warum Statistik in der Immobilienbewertung unverzichtbar ist – und wie Zahlen spannende Geschichten über den Markt erzählen.</p>
STATUS:CONFIRMED
SEQUENCE:0
END:VEVENT
END:VCALENDAR