BEGIN:VCALENDAR
VERSION:2.0
PRODID:-//MMC-Agentur//Calendar Link//DE
CALSCALE:GREGORIAN
METHOD:PUBLISH
BEGIN:VEVENT
UID:event-503@reguvis-shop.tld
DTSTAMP:20260425T164845Z
DTSTART:20260610T220000Z
DTEND:20260610T220000Z
SUMMARY:Nachträge und Vertragsänderungen – was geht\, was geht nicht?
DESCRIPTION:<p>Spielräume und Grenzen nach § 132 GWB und § 47 UVgO</p>
STATUS:CONFIRMED
SEQUENCE:0
END:VEVENT
END:VCALENDAR