BEGIN:VCALENDAR
VERSION:2.0
PRODID:-//MMC-Agentur//Calendar Link//DE
CALSCALE:GREGORIAN
METHOD:PUBLISH
BEGIN:VEVENT
UID:event-491@reguvis-shop.tld
DTSTAMP:20260424T131255Z
DTSTART:20261007T220000Z
DTEND:20261007T220000Z
SUMMARY:Optische Bau-Forensik – Aufbaukurs "Bau-Forensik ohne Verdunkelung"
DESCRIPTION:<p>Optimale Ergebnisse in der Bau-Forensik trotz Störlicht.</p>
LOCATION:Fraunhofer-Informationszentrum IRB Stuttgart
STATUS:CONFIRMED
SEQUENCE:0
END:VEVENT
END:VCALENDAR