BEGIN:VCALENDAR
VERSION:2.0
PRODID:-//MMC-Agentur//Calendar Link//DE
CALSCALE:GREGORIAN
METHOD:PUBLISH
BEGIN:VEVENT
UID:event-486@reguvis-shop.tld
DTSTAMP:20260424T133957Z
DTSTART:20261004T220000Z
DTEND:20261005T220000Z
SUMMARY:Optische Bau-Forensik – Grundkurs Teil I
DESCRIPTION:<p>Training mit Tatortlampen\, Filterbrillen und Forensikkameras zur professionellen Aufklärung von Bauschäden.</p>
LOCATION:Fraunhofer-Informationszentrum IRB Stuttgart
STATUS:CONFIRMED
SEQUENCE:0
END:VEVENT
END:VCALENDAR