BEGIN:VCALENDAR
VERSION:2.0
PRODID:-//MMC-Agentur//Calendar Link//DE
CALSCALE:GREGORIAN
METHOD:PUBLISH
BEGIN:VEVENT
UID:event-487@reguvis-shop.tld
DTSTAMP:20260424T131256Z
DTSTART:20261006T220000Z
DTEND:20261006T220000Z
SUMMARY:Optische Bau-Forensik – Grundkurs Teil II
DESCRIPTION:<p>Dokumentation\, Messen und Arbeiten mit Standards in der optischen Bau-Forensik</p>
LOCATION:Fraunhofer-Informationszentrum IRB Stuttgart
STATUS:CONFIRMED
SEQUENCE:0
END:VEVENT
END:VCALENDAR