BEGIN:VCALENDAR
VERSION:2.0
PRODID:-//MMC-Agentur//Calendar Link//DE
CALSCALE:GREGORIAN
METHOD:PUBLISH
BEGIN:VEVENT
UID:event-489@reguvis-shop.tld
DTSTAMP:20260424T132223Z
DTSTART:20261007T220000Z
DTEND:20261007T220000Z
SUMMARY:Optische Bau-Forensik – Prüfungsvorbereitung
DESCRIPTION:<p>Effiziente Vorbereitung auf die Prüfung für die Zertifizierung zur Geprüften Fachperson für optische Bau-Forensik</p>
LOCATION:Fraunhofer-Informationszentrum IRB Stuttgart
STATUS:CONFIRMED
SEQUENCE:0
END:VEVENT
END:VCALENDAR