BEGIN:VCALENDAR
VERSION:2.0
PRODID:-//MMC-Agentur//Calendar Link//DE
CALSCALE:GREGORIAN
METHOD:PUBLISH
BEGIN:VEVENT
UID:event-490@reguvis-shop.tld
DTSTAMP:20260424T131207Z
DTSTART:20261008T220000Z
DTEND:20261008T220000Z
SUMMARY:Prüfung zur Fachperson für optische Bau-Forensik
DESCRIPTION:<p>Werden Sie <strong>Geprüfte Fachperson für optische Bau-Forensik </strong>– Ihr Nachweis für höchste Kompetenz!</p>
LOCATION:Fraunhofer-Informationszentrum IRB Stuttgart
STATUS:CONFIRMED
SEQUENCE:0
END:VEVENT
END:VCALENDAR