BEGIN:VCALENDAR
VERSION:2.0
PRODID:-//MMC-Agentur//Calendar Link//DE
CALSCALE:GREGORIAN
METHOD:PUBLISH
BEGIN:VEVENT
UID:event-513@reguvis-shop.tld
DTSTAMP:20260424T133747Z
DTSTART:20261005T220000Z
DTEND:20261005T220000Z
SUMMARY:Tabaksteuer-Update 2026
DESCRIPTION:<p>Rechtsprechung\, EU-Reform und Praxisfolgen für Unternehmen</p>
STATUS:CONFIRMED
SEQUENCE:0
END:VEVENT
END:VCALENDAR