BEGIN:VCALENDAR
VERSION:2.0
PRODID:-//MMC-Agentur//Calendar Link//DE
CALSCALE:GREGORIAN
METHOD:PUBLISH
BEGIN:VEVENT
UID:event-411@reguvis-shop.tld
DTSTAMP:20260424T113351Z
DTSTART:20260913T220000Z
DTEND:20261119T230000Z
SUMMARY:Zollfachwirt:in (brav)®
DESCRIPTION:<p>Werden Sie geprüfte Fachkraft für Zoll und Außenwirtschaft.</p>
LOCATION:Reguvis Akademie GmbH\, Köln
STATUS:CONFIRMED
SEQUENCE:0
END:VEVENT
END:VCALENDAR